BEGIN:VCALENDAR
PRODID:-//github.com/rianjs/ical.net//NONSGML ical.net 4.0//EN
VERSION:2.0
BEGIN:VEVENT
DESCRIPTION:Up to four DPI images per member of people. Judged by an indep
 endent PAGB Judge\, John Haines from Great Barr.\n
DTEND:20240219T220000
DTSTAMP:20260421T084830Z
DTSTART:20240219T193000
LOCATION:Hermitage Centre
SEQUENCE:0
SUMMARY:(SPS) Portrait DPI Competition
UID:332fbd50-4d2f-4f81-92d5-e0e2bff37f86
BEGIN:VALARM
ACTION:DISPLAY
DESCRIPTION:Reminder
TRIGGER:-PT2H
END:VALARM
END:VEVENT
BEGIN:VEVENT
DTSTAMP:20260421T084830Z
DTSTART:20240212T193000
SEQUENCE:0
SUMMARY:Entries due for Portrait DPI Competition
UID:cbe21e48-a30e-46ab-b98b-618aea40a4ca
BEGIN:VALARM
ACTION:DISPLAY
DESCRIPTION:Reminder
TRIGGER:-PT2H
END:VALARM
END:VEVENT
END:VCALENDAR
