BEGIN:VCALENDAR
PRODID:-//github.com/rianjs/ical.net//NONSGML ical.net 4.0//EN
VERSION:2.0
BEGIN:VEVENT
DESCRIPTION:An open-themed print competition. Members are permitted to ent
 er up to three images. Dave Tucker - our guest PAGB judge - will give a c
 ritical appraisal of each image.\n
DTEND:20241014T220000
DTSTAMP:20260421T090606Z
DTSTART:20241014T193000
LOCATION:Hermitage Centre
SEQUENCE:0
SUMMARY:(SPS) 1st Merit Print Competition
UID:8889c199-12ed-4988-9bc7-cc6ffe00892f
BEGIN:VALARM
ACTION:DISPLAY
DESCRIPTION:Reminder
TRIGGER:-PT2H
END:VALARM
END:VEVENT
BEGIN:VEVENT
DTSTAMP:20260421T090606Z
DTSTART:20241007T193000
SEQUENCE:0
SUMMARY:Entries due for 1st Merit Print Competition
UID:ca644f84-3da9-49e7-a6e7-606d354574aa
BEGIN:VALARM
ACTION:DISPLAY
DESCRIPTION:Reminder
TRIGGER:-PT2H
END:VALARM
END:VEVENT
END:VCALENDAR
